BEGIN:VCALENDAR
VERSION:2.0
PRODID:-//Stadtkapelle Vöhringen e.V. - ECPv6.15.20//NONSGML v1.0//EN
CALSCALE:GREGORIAN
METHOD:PUBLISH
X-WR-CALNAME:Stadtkapelle Vöhringen e.V.
X-ORIGINAL-URL:https://stadtkapelle-voehringen.de
X-WR-CALDESC:Veranstaltungen für Stadtkapelle Vöhringen e.V.
REFRESH-INTERVAL;VALUE=DURATION:PT1H
X-Robots-Tag:noindex
X-PUBLISHED-TTL:PT1H
BEGIN:VTIMEZONE
TZID:Europe/Berlin
BEGIN:DAYLIGHT
TZOFFSETFROM:+0100
TZOFFSETTO:+0200
TZNAME:CEST
DTSTART:20250330T010000
END:DAYLIGHT
BEGIN:STANDARD
TZOFFSETFROM:+0200
TZOFFSETTO:+0100
TZNAME:CET
DTSTART:20251026T010000
END:STANDARD
BEGIN:DAYLIGHT
TZOFFSETFROM:+0100
TZOFFSETTO:+0200
TZNAME:CEST
DTSTART:20260329T010000
END:DAYLIGHT
BEGIN:STANDARD
TZOFFSETFROM:+0200
TZOFFSETTO:+0100
TZNAME:CET
DTSTART:20261025T010000
END:STANDARD
BEGIN:DAYLIGHT
TZOFFSETFROM:+0100
TZOFFSETTO:+0200
TZNAME:CEST
DTSTART:20270328T010000
END:DAYLIGHT
BEGIN:STANDARD
TZOFFSETFROM:+0200
TZOFFSETTO:+0100
TZNAME:CET
DTSTART:20271031T010000
END:STANDARD
END:VTIMEZONE
BEGIN:VEVENT
DTSTART;TZID=Europe/Berlin:20260604T093000
DTEND;TZID=Europe/Berlin:20260604T123000
DTSTAMP:20260419T143431
CREATED:20260319T123553Z
LAST-MODIFIED:20260319T123858Z
UID:4980-1780565400-1780576200@stadtkapelle-voehringen.de
SUMMARY:Fronleichnamsprozession der Pfarrei St. Michael Vöhringen mit anschl. Frühschoppen
DESCRIPTION:
URL:https://stadtkapelle-voehringen.de/event/fronleichnamsprozession-der-pfarrei-st-michael-voehringen-mit-anschl-fruehschoppen-2/
CATEGORIES:Stadtkapelle
END:VEVENT
BEGIN:VEVENT
DTSTART;TZID=Europe/Berlin:20260620T180000
DTEND;TZID=Europe/Berlin:20260620T230000
DTSTAMP:20260419T143431
CREATED:20260319T123701Z
LAST-MODIFIED:20260319T123701Z
UID:4982-1781978400-1781996400@stadtkapelle-voehringen.de
SUMMARY:Parkfest Oberdischingen
DESCRIPTION:
URL:https://stadtkapelle-voehringen.de/event/parkfest-oberdischingen/
CATEGORIES:Sommer-Tour-Band,Stadtkapelle
END:VEVENT
BEGIN:VEVENT
DTSTART;VALUE=DATE:20260621
DTEND;VALUE=DATE:20260622
DTSTAMP:20260419T143431
CREATED:20260116T121509Z
LAST-MODIFIED:20260116T121509Z
UID:4935-1782000000-1782086399@stadtkapelle-voehringen.de
SUMMARY:Jubiläumsveranstaltung des MV Au - Auftritt der Jugendkapelle
DESCRIPTION:
URL:https://stadtkapelle-voehringen.de/event/jubilaeumsveranstaltung-des-mv-au-auftritt-der-jugendkapelle/
CATEGORIES:Bläserjugend
END:VEVENT
BEGIN:VEVENT
DTSTART;TZID=Europe/Berlin:20260628T100000
DTEND;TZID=Europe/Berlin:20260628T140000
DTSTAMP:20260419T143431
CREATED:20260319T123812Z
LAST-MODIFIED:20260319T123959Z
UID:4984-1782640800-1782655200@stadtkapelle-voehringen.de
SUMMARY:Sportpark Sommerfest Vöhringen
DESCRIPTION:
URL:https://stadtkapelle-voehringen.de/event/sportparkfest-voehringen-9/
CATEGORIES:Sommer-Tour-Band,Stadtkapelle
END:VEVENT
BEGIN:VEVENT
DTSTART;TZID=Europe/Berlin:20260628T140000
DTEND;TZID=Europe/Berlin:20260628T153000
DTSTAMP:20260419T143431
CREATED:20260116T121647Z
LAST-MODIFIED:20260319T123934Z
UID:4937-1782655200-1782660600@stadtkapelle-voehringen.de
SUMMARY:Sportpark Sommerfest - Auftritt von Jugendkapelle und Melodiepiraten
DESCRIPTION:
URL:https://stadtkapelle-voehringen.de/event/sportparkfest-auftritt-von-jugendkapelle-und-melodiepiraten/
CATEGORIES:Bläserjugend
END:VEVENT
END:VCALENDAR