BEGIN:VCALENDAR
VERSION:2.0
PRODID:-//Stadtkapelle Vöhringen e.V. - ECPv6.15.20//NONSGML v1.0//EN
CALSCALE:GREGORIAN
METHOD:PUBLISH
X-ORIGINAL-URL:https://stadtkapelle-voehringen.de
X-WR-CALDESC:Veranstaltungen für Stadtkapelle Vöhringen e.V.
REFRESH-INTERVAL;VALUE=DURATION:PT1H
X-Robots-Tag:noindex
X-PUBLISHED-TTL:PT1H
BEGIN:VTIMEZONE
TZID:Europe/Berlin
BEGIN:DAYLIGHT
TZOFFSETFROM:+0100
TZOFFSETTO:+0200
TZNAME:CEST
DTSTART:20240331T010000
END:DAYLIGHT
BEGIN:STANDARD
TZOFFSETFROM:+0200
TZOFFSETTO:+0100
TZNAME:CET
DTSTART:20241027T010000
END:STANDARD
BEGIN:DAYLIGHT
TZOFFSETFROM:+0100
TZOFFSETTO:+0200
TZNAME:CEST
DTSTART:20250330T010000
END:DAYLIGHT
BEGIN:STANDARD
TZOFFSETFROM:+0200
TZOFFSETTO:+0100
TZNAME:CET
DTSTART:20251026T010000
END:STANDARD
BEGIN:DAYLIGHT
TZOFFSETFROM:+0100
TZOFFSETTO:+0200
TZNAME:CEST
DTSTART:20260329T010000
END:DAYLIGHT
BEGIN:STANDARD
TZOFFSETFROM:+0200
TZOFFSETTO:+0100
TZNAME:CET
DTSTART:20261025T010000
END:STANDARD
END:VTIMEZONE
BEGIN:VEVENT
DTSTART;TZID=Europe/Berlin:20251203T190000
DTEND;TZID=Europe/Berlin:20251203T193000
DTSTAMP:20260419T181828
CREATED:20251121T123440Z
LAST-MODIFIED:20251121T123440Z
UID:4908-1764788400-1764790200@stadtkapelle-voehringen.de
SUMMARY:Ulmer Weihnachtsmarkt - Auftritt der Jugendkapelle
DESCRIPTION:
URL:https://stadtkapelle-voehringen.de/event/ulmer-weihnachtsmarkt-auftritt-der-jugendkapelle/
CATEGORIES:Bläserjugend
END:VEVENT
BEGIN:VEVENT
DTSTART;TZID=Europe/Berlin:20251205T170000
DTEND;TZID=Europe/Berlin:20251205T210000
DTSTAMP:20260419T181828
CREATED:20251121T124257Z
LAST-MODIFIED:20251121T124257Z
UID:4916-1764954000-1764968400@stadtkapelle-voehringen.de
SUMMARY:Adventsmarkt Vöhringen (Bewirtung)
DESCRIPTION:
URL:https://stadtkapelle-voehringen.de/event/adventsmarkt-voehringen-bewirtung-36/
CATEGORIES:Stadtkapelle
END:VEVENT
BEGIN:VEVENT
DTSTART;TZID=Europe/Berlin:20251205T181500
DTEND;TZID=Europe/Berlin:20251205T190000
DTSTAMP:20260419T181828
CREATED:20251121T124018Z
LAST-MODIFIED:20251121T124018Z
UID:4912-1764958500-1764961200@stadtkapelle-voehringen.de
SUMMARY:Adventsmarkt Vöhringen - Auftritt von Jugendkapelle und Stadtkapelle
DESCRIPTION:
URL:https://stadtkapelle-voehringen.de/event/adventsmarkt-voehringen-auftritt-von-jugendkapelle-und-stadtkapelle/
CATEGORIES:Bläserjugend,Stadtkapelle
END:VEVENT
BEGIN:VEVENT
DTSTART;TZID=Europe/Berlin:20251206T160000
DTEND;TZID=Europe/Berlin:20251206T210000
DTSTAMP:20260419T181828
CREATED:20251121T124353Z
LAST-MODIFIED:20251121T124353Z
UID:4918-1765036800-1765054800@stadtkapelle-voehringen.de
SUMMARY:Adventsmarkt Vöhringen (Bewirtung)
DESCRIPTION:
URL:https://stadtkapelle-voehringen.de/event/adventsmarkt-voehringen-bewirtung-37/
CATEGORIES:Stadtkapelle
END:VEVENT
BEGIN:VEVENT
DTSTART;TZID=Europe/Berlin:20251207T150000
DTEND;TZID=Europe/Berlin:20251207T200000
DTSTAMP:20260419T181828
CREATED:20251121T124433Z
LAST-MODIFIED:20251121T124433Z
UID:4920-1765119600-1765137600@stadtkapelle-voehringen.de
SUMMARY:Adventsmarkt Vöhringen (Bewirtung)
DESCRIPTION:
URL:https://stadtkapelle-voehringen.de/event/adventsmarkt-voehringen-bewirtung-38/
CATEGORIES:Stadtkapelle
END:VEVENT
BEGIN:VEVENT
DTSTART;VALUE=DATE:20251214
DTEND;VALUE=DATE:20251215
DTSTAMP:20260419T181828
CREATED:20250507T200401Z
LAST-MODIFIED:20250507T200401Z
UID:4841-1765670400-1765756799@stadtkapelle-voehringen.de
SUMMARY:Jahresfeier der Bläserjugend
DESCRIPTION:
URL:https://stadtkapelle-voehringen.de/event/jahresfeier-der-blaeserjugend-4/
CATEGORIES:Bläserjugend
END:VEVENT
BEGIN:VEVENT
DTSTART;TZID=Europe/Berlin:20251224T143000
DTEND;TZID=Europe/Berlin:20251224T170000
DTSTAMP:20260419T181828
CREATED:20251121T124149Z
LAST-MODIFIED:20251126T152313Z
UID:4914-1766586600-1766595600@stadtkapelle-voehringen.de
SUMMARY:Musikalische Weihnachtsgrüße im Caritas-Seniorenheim in Vöhringen (Jugendkapelle und Stadtkapelle))
DESCRIPTION:
URL:https://stadtkapelle-voehringen.de/event/musikalische-weihnachtsgruesse-im-caritas-seniorenheim-in-voehringen-2/
CATEGORIES:Bläserjugend,Stadtkapelle
END:VEVENT
END:VCALENDAR