BEGIN:VCALENDAR
VERSION:2.0
PRODID:-//Stadtkapelle Vöhringen e.V. - ECPv6.15.20//NONSGML v1.0//EN
CALSCALE:GREGORIAN
METHOD:PUBLISH
X-ORIGINAL-URL:https://stadtkapelle-voehringen.de
X-WR-CALDESC:Veranstaltungen für Stadtkapelle Vöhringen e.V.
REFRESH-INTERVAL;VALUE=DURATION:PT1H
X-Robots-Tag:noindex
X-PUBLISHED-TTL:PT1H
BEGIN:VTIMEZONE
TZID:Europe/Berlin
BEGIN:DAYLIGHT
TZOFFSETFROM:+0100
TZOFFSETTO:+0200
TZNAME:CEST
DTSTART:20240331T010000
END:DAYLIGHT
BEGIN:STANDARD
TZOFFSETFROM:+0200
TZOFFSETTO:+0100
TZNAME:CET
DTSTART:20241027T010000
END:STANDARD
BEGIN:DAYLIGHT
TZOFFSETFROM:+0100
TZOFFSETTO:+0200
TZNAME:CEST
DTSTART:20250330T010000
END:DAYLIGHT
BEGIN:STANDARD
TZOFFSETFROM:+0200
TZOFFSETTO:+0100
TZNAME:CET
DTSTART:20251026T010000
END:STANDARD
BEGIN:DAYLIGHT
TZOFFSETFROM:+0100
TZOFFSETTO:+0200
TZNAME:CEST
DTSTART:20260329T010000
END:DAYLIGHT
BEGIN:STANDARD
TZOFFSETFROM:+0200
TZOFFSETTO:+0100
TZNAME:CET
DTSTART:20261025T010000
END:STANDARD
END:VTIMEZONE
BEGIN:VEVENT
DTSTART;TZID=Europe/Berlin:20250315T080000
DTEND;TZID=Europe/Berlin:20250315T170000
DTSTAMP:20260422T104117
CREATED:20250107T204238Z
LAST-MODIFIED:20250107T204238Z
UID:4741-1742025600-1742058000@stadtkapelle-voehringen.de
SUMMARY:Bläserprüfungen des ASM - Bezirk 8
DESCRIPTION:
URL:https://stadtkapelle-voehringen.de/event/blaeserpruefungen-des-asm-bezirk-8-6/
CATEGORIES:Bläserjugend
END:VEVENT
BEGIN:VEVENT
DTSTART;TZID=Europe/Berlin:20250321T190000
DTEND;TZID=Europe/Berlin:20250321T210000
DTSTAMP:20260422T104117
CREATED:20250228T075224Z
LAST-MODIFIED:20250228T075224Z
UID:4754-1742583600-1742590800@stadtkapelle-voehringen.de
SUMMARY:Jahreshauptversammlung
DESCRIPTION:
URL:https://stadtkapelle-voehringen.de/event/jahreshauptversammlung-14/
CATEGORIES:Stadtkapelle
END:VEVENT
BEGIN:VEVENT
DTSTART;TZID=Europe/Berlin:20250323T090000
DTEND;TZID=Europe/Berlin:20250323T150000
DTSTAMP:20260422T104117
CREATED:20250228T075329Z
LAST-MODIFIED:20250228T075329Z
UID:4756-1742720400-1742742000@stadtkapelle-voehringen.de
SUMMARY:Probentag Jugendkapelle
DESCRIPTION:
URL:https://stadtkapelle-voehringen.de/event/probentag-jugendkapelle/
CATEGORIES:Bläserjugend
END:VEVENT
BEGIN:VEVENT
DTSTART;VALUE=DATE:20250329
DTEND;VALUE=DATE:20250330
DTSTAMP:20260422T104117
CREATED:20250228T080042Z
LAST-MODIFIED:20250228T080042Z
UID:4760-1743206400-1743292799@stadtkapelle-voehringen.de
SUMMARY:Concertino - Solo/Duo-Wettbewerb des BBMV in Nürnberg (Landesentscheid)
DESCRIPTION:
URL:https://stadtkapelle-voehringen.de/event/concertino-solo-duo-wettbewerb-des-bbmv-in-nuernberg-landesentscheid/
CATEGORIES:Bläserjugend
END:VEVENT
END:VCALENDAR