BEGIN:VCALENDAR
VERSION:2.0
PRODID:-//Stadtkapelle Vöhringen e.V. - ECPv6.15.20//NONSGML v1.0//EN
CALSCALE:GREGORIAN
METHOD:PUBLISH
X-WR-CALNAME:Stadtkapelle Vöhringen e.V.
X-ORIGINAL-URL:https://stadtkapelle-voehringen.de
X-WR-CALDESC:Veranstaltungen für Stadtkapelle Vöhringen e.V.
REFRESH-INTERVAL;VALUE=DURATION:PT1H
X-Robots-Tag:noindex
X-PUBLISHED-TTL:PT1H
BEGIN:VTIMEZONE
TZID:Europe/Berlin
BEGIN:DAYLIGHT
TZOFFSETFROM:+0100
TZOFFSETTO:+0200
TZNAME:CEST
DTSTART:20230326T010000
END:DAYLIGHT
BEGIN:STANDARD
TZOFFSETFROM:+0200
TZOFFSETTO:+0100
TZNAME:CET
DTSTART:20231029T010000
END:STANDARD
BEGIN:DAYLIGHT
TZOFFSETFROM:+0100
TZOFFSETTO:+0200
TZNAME:CEST
DTSTART:20240331T010000
END:DAYLIGHT
BEGIN:STANDARD
TZOFFSETFROM:+0200
TZOFFSETTO:+0100
TZNAME:CET
DTSTART:20241027T010000
END:STANDARD
BEGIN:DAYLIGHT
TZOFFSETFROM:+0100
TZOFFSETTO:+0200
TZNAME:CEST
DTSTART:20250330T010000
END:DAYLIGHT
BEGIN:STANDARD
TZOFFSETFROM:+0200
TZOFFSETTO:+0100
TZNAME:CET
DTSTART:20251026T010000
END:STANDARD
END:VTIMEZONE
BEGIN:VEVENT
DTSTART;TZID=Europe/Berlin:20240602T130000
DTEND;TZID=Europe/Berlin:20240602T150000
DTSTAMP:20260424T152008
CREATED:20240201T210732Z
LAST-MODIFIED:20240201T210732Z
UID:4569-1717333200-1717340400@stadtkapelle-voehringen.de
SUMMARY:Umzug beim Bezirksmusikfest in Holzheim (Bezirk 9)
DESCRIPTION:
URL:https://stadtkapelle-voehringen.de/event/umzug-beim-bezirksmusikfest-in-holzheim-bezirk-9/
CATEGORIES:Stadtkapelle
END:VEVENT
BEGIN:VEVENT
DTSTART;TZID=Europe/Berlin:20240607T160000
DTEND;TZID=Europe/Berlin:20240607T180000
DTSTAMP:20260424T152008
CREATED:20240302T194726Z
LAST-MODIFIED:20240421T130536Z
UID:4613-1717776000-1717783200@stadtkapelle-voehringen.de
SUMMARY:Informationsveranstaltung für musikinteressierte Kinder und Jugendliche - wer möchte ein Instrument erlernen?
DESCRIPTION:
URL:https://stadtkapelle-voehringen.de/event/informationsveranstaltung-fuer-musikinteressierte-kinder-und-jugendliche-wer-moechte-ein-instrument-erlernen/
CATEGORIES:Bläserjugend
ATTACH;FMTTYPE=image/jpeg:https://stadtkapelle-voehringen.de/wp/wp-content/uploads/2024/04/Jugendwerbung_2024.jpg
END:VEVENT
BEGIN:VEVENT
DTSTART;TZID=Europe/Berlin:20240615T193000
DTEND;TZID=Europe/Berlin:20240615T233000
DTSTAMP:20260424T152008
CREATED:20240302T193659Z
LAST-MODIFIED:20240302T193659Z
UID:4611-1718479800-1718494200@stadtkapelle-voehringen.de
SUMMARY:Marktfest Kellmünz
DESCRIPTION:
URL:https://stadtkapelle-voehringen.de/event/marktfest-kellmuenz/
CATEGORIES:Sommer-Tour-Band,Stadtkapelle
END:VEVENT
BEGIN:VEVENT
DTSTART;TZID=Europe/Berlin:20240622T180000
DTEND;TZID=Europe/Berlin:20240622T230000
DTSTAMP:20260424T152008
CREATED:20240201T210900Z
LAST-MODIFIED:20240201T210900Z
UID:4571-1719079200-1719097200@stadtkapelle-voehringen.de
SUMMARY:Hopfenfest in Thalfingen
DESCRIPTION:
URL:https://stadtkapelle-voehringen.de/event/hopfenfest-in-thalfingen-3/
CATEGORIES:Sommer-Tour-Band,Stadtkapelle
END:VEVENT
BEGIN:VEVENT
DTSTART;TZID=Europe/Berlin:20240629T163000
DTEND;TZID=Europe/Berlin:20240629T180000
DTSTAMP:20260424T152008
CREATED:20240302T193007Z
LAST-MODIFIED:20240613T084454Z
UID:4607-1719678600-1719684000@stadtkapelle-voehringen.de
SUMMARY:Sportparkfest - Auftritt der NWGr
DESCRIPTION:
URL:https://stadtkapelle-voehringen.de/event/sportparkfest-auftritt-von-nwgr-und-juka/
CATEGORIES:Bläserjugend
END:VEVENT
BEGIN:VEVENT
DTSTART;TZID=Europe/Berlin:20240629T190000
DTEND;TZID=Europe/Berlin:20240629T235900
DTSTAMP:20260424T152008
CREATED:20240201T211014Z
LAST-MODIFIED:20240201T211014Z
UID:4573-1719687600-1719705540@stadtkapelle-voehringen.de
SUMMARY:Sportparkfest in Vöhringen
DESCRIPTION:
URL:https://stadtkapelle-voehringen.de/event/sportparkfest-in-voehringen-3/
CATEGORIES:Sommer-Tour-Band,Stadtkapelle
END:VEVENT
END:VCALENDAR