BEGIN:VCALENDAR
VERSION:2.0
PRODID:-//Stadtkapelle Vöhringen e.V. - ECPv6.15.20//NONSGML v1.0//EN
CALSCALE:GREGORIAN
METHOD:PUBLISH
X-ORIGINAL-URL:https://stadtkapelle-voehringen.de
X-WR-CALDESC:Veranstaltungen für Stadtkapelle Vöhringen e.V.
REFRESH-INTERVAL;VALUE=DURATION:PT1H
X-Robots-Tag:noindex
X-PUBLISHED-TTL:PT1H
BEGIN:VTIMEZONE
TZID:Europe/Berlin
BEGIN:DAYLIGHT
TZOFFSETFROM:+0100
TZOFFSETTO:+0200
TZNAME:CEST
DTSTART:20230326T010000
END:DAYLIGHT
BEGIN:STANDARD
TZOFFSETFROM:+0200
TZOFFSETTO:+0100
TZNAME:CET
DTSTART:20231029T010000
END:STANDARD
BEGIN:DAYLIGHT
TZOFFSETFROM:+0100
TZOFFSETTO:+0200
TZNAME:CEST
DTSTART:20240331T010000
END:DAYLIGHT
BEGIN:STANDARD
TZOFFSETFROM:+0200
TZOFFSETTO:+0100
TZNAME:CET
DTSTART:20241027T010000
END:STANDARD
BEGIN:DAYLIGHT
TZOFFSETFROM:+0100
TZOFFSETTO:+0200
TZNAME:CEST
DTSTART:20250330T010000
END:DAYLIGHT
BEGIN:STANDARD
TZOFFSETFROM:+0200
TZOFFSETTO:+0100
TZNAME:CET
DTSTART:20251026T010000
END:STANDARD
END:VTIMEZONE
BEGIN:VEVENT
DTSTART;TZID=Europe/Berlin:20240509T100000
DTEND;TZID=Europe/Berlin:20240509T200000
DTSTAMP:20260424T170306
CREATED:20240216T112807Z
LAST-MODIFIED:20240410T084947Z
UID:4590-1715248800-1715284800@stadtkapelle-voehringen.de
SUMMARY:Aufg`'spielt wird ! - Vatertags-Hockete am Hettstedtplatz/Vöhringen
DESCRIPTION:
URL:https://stadtkapelle-voehringen.de/event/aufgspielt-wird-vatertagshockete-am-hettstedtplatz-voehringen/
CATEGORIES:Stadtkapelle
ATTACH;FMTTYPE=image/jpeg:https://stadtkapelle-voehringen.de/wp/wp-content/uploads/2024/04/Plakat_Website.jpg
END:VEVENT
BEGIN:VEVENT
DTSTART;TZID=Europe/Berlin:20240510T170000
DTEND;TZID=Europe/Berlin:20240510T180000
DTSTAMP:20260424T170306
CREATED:20240302T192905Z
LAST-MODIFIED:20240410T084915Z
UID:4605-1715360400-1715364000@stadtkapelle-voehringen.de
SUMMARY:Aufg'spielt wird ! - Feierabend-Hockete - Auftritt von NWGr und JUKA
DESCRIPTION:
URL:https://stadtkapelle-voehringen.de/event/aufgspielt-wird-feierabend-hockete-auftritt-von-nwgr-und-juka/
CATEGORIES:Bläserjugend
ATTACH;FMTTYPE=image/jpeg:https://stadtkapelle-voehringen.de/wp/wp-content/uploads/2024/04/Plakat_Website.jpg
END:VEVENT
BEGIN:VEVENT
DTSTART;TZID=Europe/Berlin:20240510T170000
DTEND;TZID=Europe/Berlin:20240510T230000
DTSTAMP:20260424T170306
CREATED:20240216T113019Z
LAST-MODIFIED:20240410T085108Z
UID:4592-1715360400-1715382000@stadtkapelle-voehringen.de
SUMMARY:Aufg'spielt wird ! - Feierabend-Hockete am Hettstedtplatz/Vöhringen
DESCRIPTION:
URL:https://stadtkapelle-voehringen.de/event/aufgspielt-wird-feierabend-hockete-am-hettstedtplatz-voehringen/
CATEGORIES:Stadtkapelle
ATTACH;FMTTYPE=image/jpeg:https://stadtkapelle-voehringen.de/wp/wp-content/uploads/2024/04/Plakat_Website.jpg
END:VEVENT
BEGIN:VEVENT
DTSTART;TZID=Europe/Berlin:20240530T093000
DTEND;TZID=Europe/Berlin:20240530T113000
DTSTAMP:20260424T170306
CREATED:20240302T193237Z
LAST-MODIFIED:20240302T193237Z
UID:4609-1717061400-1717068600@stadtkapelle-voehringen.de
SUMMARY:Fronleichnamsprozession der Pfarrei St. Michael Vöhringen mit anschl. Frühschoppen
DESCRIPTION:
URL:https://stadtkapelle-voehringen.de/event/fronleichnamsprozession-der-pfarrei-st-michael-voehringen-mit-anschl-fruehschoppen/
CATEGORIES:Stadtkapelle
END:VEVENT
BEGIN:VEVENT
DTSTART;TZID=Europe/Berlin:20240530T180000
DTEND;TZID=Europe/Berlin:20240530T220000
DTSTAMP:20260424T170306
CREATED:20240321T190202Z
LAST-MODIFIED:20240321T190202Z
UID:4616-1717092000-1717106400@stadtkapelle-voehringen.de
SUMMARY:Gartenfest in Unterelchingen
DESCRIPTION:
URL:https://stadtkapelle-voehringen.de/event/gartenfest-in-unterelchingen/
CATEGORIES:Sommer-Tour-Band,Stadtkapelle
END:VEVENT
END:VCALENDAR