BEGIN:VCALENDAR
VERSION:2.0
PRODID:-//Stadtkapelle Vöhringen e.V. - ECPv6.15.20//NONSGML v1.0//EN
CALSCALE:GREGORIAN
METHOD:PUBLISH
X-WR-CALNAME:Stadtkapelle Vöhringen e.V.
X-ORIGINAL-URL:https://stadtkapelle-voehringen.de
X-WR-CALDESC:Veranstaltungen für Stadtkapelle Vöhringen e.V.
REFRESH-INTERVAL;VALUE=DURATION:PT1H
X-Robots-Tag:noindex
X-PUBLISHED-TTL:PT1H
BEGIN:VTIMEZONE
TZID:Europe/Berlin
BEGIN:DAYLIGHT
TZOFFSETFROM:+0100
TZOFFSETTO:+0200
TZNAME:CEST
DTSTART:20220327T010000
END:DAYLIGHT
BEGIN:STANDARD
TZOFFSETFROM:+0200
TZOFFSETTO:+0100
TZNAME:CET
DTSTART:20221030T010000
END:STANDARD
BEGIN:DAYLIGHT
TZOFFSETFROM:+0100
TZOFFSETTO:+0200
TZNAME:CEST
DTSTART:20230326T010000
END:DAYLIGHT
BEGIN:STANDARD
TZOFFSETFROM:+0200
TZOFFSETTO:+0100
TZNAME:CET
DTSTART:20231029T010000
END:STANDARD
BEGIN:DAYLIGHT
TZOFFSETFROM:+0100
TZOFFSETTO:+0200
TZNAME:CEST
DTSTART:20240331T010000
END:DAYLIGHT
BEGIN:STANDARD
TZOFFSETFROM:+0200
TZOFFSETTO:+0100
TZNAME:CET
DTSTART:20241027T010000
END:STANDARD
END:VTIMEZONE
BEGIN:VEVENT
DTSTART;TZID=Europe/Berlin:20231111T083000
DTEND;TZID=Europe/Berlin:20231111T140000
DTSTAMP:20260425T044624
CREATED:20231029T093007Z
LAST-MODIFIED:20231029T093007Z
UID:4519-1699691400-1699711200@stadtkapelle-voehringen.de
SUMMARY:Bläserprüfungen des ASM - Bezirk 8
DESCRIPTION:
URL:https://stadtkapelle-voehringen.de/event/blaeserpruefungen-des-asm-bezirk-8-4/
CATEGORIES:Bläserjugend
END:VEVENT
BEGIN:VEVENT
DTSTART;VALUE=DATE:20231117
DTEND;VALUE=DATE:20231120
DTSTAMP:20260425T044624
CREATED:20221212T102039Z
LAST-MODIFIED:20221212T102204Z
UID:4393-1700179200-1700438399@stadtkapelle-voehringen.de
SUMMARY:Probenwochenende am Reiberhof
DESCRIPTION:
URL:https://stadtkapelle-voehringen.de/event/probenwochenende-am-reiberhof-4/
CATEGORIES:Stadtkapelle
END:VEVENT
BEGIN:VEVENT
DTSTART;TZID=Europe/Berlin:20231125T180000
DTEND;TZID=Europe/Berlin:20231125T200000
DTSTAMP:20260425T044624
CREATED:20221212T102313Z
LAST-MODIFIED:20231029T092742Z
UID:4399-1700935200-1700942400@stadtkapelle-voehringen.de
SUMMARY:"Feuer und Flamme" - Herbstkonzert der Stadtkapelle
DESCRIPTION:
URL:https://stadtkapelle-voehringen.de/event/herbstkonzert-7/
CATEGORIES:Stadtkapelle
ATTACH;FMTTYPE=image/jpeg:https://stadtkapelle-voehringen.de/wp/wp-content/uploads/2023/10/SKV_Herbstkonzert2023_1080px.jpg
END:VEVENT
END:VCALENDAR