BEGIN:VCALENDAR
VERSION:2.0
PRODID:-//Stadtkapelle Vöhringen e.V. - ECPv6.15.20//NONSGML v1.0//EN
CALSCALE:GREGORIAN
METHOD:PUBLISH
X-WR-CALNAME:Stadtkapelle Vöhringen e.V.
X-ORIGINAL-URL:https://stadtkapelle-voehringen.de
X-WR-CALDESC:Veranstaltungen für Stadtkapelle Vöhringen e.V.
REFRESH-INTERVAL;VALUE=DURATION:PT1H
X-Robots-Tag:noindex
X-PUBLISHED-TTL:PT1H
BEGIN:VTIMEZONE
TZID:Europe/Berlin
BEGIN:DAYLIGHT
TZOFFSETFROM:+0100
TZOFFSETTO:+0200
TZNAME:CEST
DTSTART:20250330T010000
END:DAYLIGHT
BEGIN:STANDARD
TZOFFSETFROM:+0200
TZOFFSETTO:+0100
TZNAME:CET
DTSTART:20251026T010000
END:STANDARD
BEGIN:DAYLIGHT
TZOFFSETFROM:+0100
TZOFFSETTO:+0200
TZNAME:CEST
DTSTART:20260329T010000
END:DAYLIGHT
BEGIN:STANDARD
TZOFFSETFROM:+0200
TZOFFSETTO:+0100
TZNAME:CET
DTSTART:20261025T010000
END:STANDARD
BEGIN:DAYLIGHT
TZOFFSETFROM:+0100
TZOFFSETTO:+0200
TZNAME:CEST
DTSTART:20270328T010000
END:DAYLIGHT
BEGIN:STANDARD
TZOFFSETFROM:+0200
TZOFFSETTO:+0100
TZNAME:CET
DTSTART:20271031T010000
END:STANDARD
END:VTIMEZONE
BEGIN:VEVENT
DTSTART;VALUE=DATE:20260621
DTEND;VALUE=DATE:20260622
DTSTAMP:20260419T162144
CREATED:20260116T121509Z
LAST-MODIFIED:20260116T121509Z
UID:4935-1782000000-1782086399@stadtkapelle-voehringen.de
SUMMARY:Jubiläumsveranstaltung des MV Au - Auftritt der Jugendkapelle
DESCRIPTION:
URL:https://stadtkapelle-voehringen.de/event/jubilaeumsveranstaltung-des-mv-au-auftritt-der-jugendkapelle/
CATEGORIES:Bläserjugend
END:VEVENT
END:VCALENDAR