BEGIN:VCALENDAR
VERSION:2.0
PRODID:-//Stadtkapelle Vöhringen e.V. - ECPv6.15.20//NONSGML v1.0//EN
CALSCALE:GREGORIAN
METHOD:PUBLISH
X-ORIGINAL-URL:https://stadtkapelle-voehringen.de
X-WR-CALDESC:Veranstaltungen für Stadtkapelle Vöhringen e.V.
REFRESH-INTERVAL;VALUE=DURATION:PT1H
X-Robots-Tag:noindex
X-PUBLISHED-TTL:PT1H
BEGIN:VTIMEZONE
TZID:Europe/Berlin
BEGIN:DAYLIGHT
TZOFFSETFROM:+0100
TZOFFSETTO:+0200
TZNAME:CEST
DTSTART:20240331T010000
END:DAYLIGHT
BEGIN:STANDARD
TZOFFSETFROM:+0200
TZOFFSETTO:+0100
TZNAME:CET
DTSTART:20241027T010000
END:STANDARD
BEGIN:DAYLIGHT
TZOFFSETFROM:+0100
TZOFFSETTO:+0200
TZNAME:CEST
DTSTART:20250330T010000
END:DAYLIGHT
BEGIN:STANDARD
TZOFFSETFROM:+0200
TZOFFSETTO:+0100
TZNAME:CET
DTSTART:20251026T010000
END:STANDARD
BEGIN:DAYLIGHT
TZOFFSETFROM:+0100
TZOFFSETTO:+0200
TZNAME:CEST
DTSTART:20260329T010000
END:DAYLIGHT
BEGIN:STANDARD
TZOFFSETFROM:+0200
TZOFFSETTO:+0100
TZNAME:CET
DTSTART:20261025T010000
END:STANDARD
END:VTIMEZONE
BEGIN:VEVENT
DTSTART;TZID=Europe/Berlin:20250530T163000
DTEND;TZID=Europe/Berlin:20250530T180000
DTSTAMP:20260420T075715
CREATED:20250403T094254Z
LAST-MODIFIED:20250528T162727Z
UID:4799-1748622600-1748628000@stadtkapelle-voehringen.de
SUMMARY:Aufg'spielt wird ! - Feierabend-Hockete - Auftritt von NWGr und JUKA
DESCRIPTION:
URL:https://stadtkapelle-voehringen.de/event/aufgspielt-wird-feierabend-hockete-auftritt-von-nwgr-und-juka-2/
CATEGORIES:Bläserjugend
ATTACH;FMTTYPE=image/jpeg:https://stadtkapelle-voehringen.de/wp/wp-content/uploads/2025/04/Plakat_abgesagt.jpeg
END:VEVENT
BEGIN:VEVENT
DTSTART;TZID=Europe/Berlin:20250530T170000
DTEND;TZID=Europe/Berlin:20250530T230000
DTSTAMP:20260420T075715
CREATED:20250228T081338Z
LAST-MODIFIED:20250528T162610Z
UID:4765-1748624400-1748646000@stadtkapelle-voehringen.de
SUMMARY:Aufg'spielt wird ! - Feierabend-Hockete im Innenhof des Rathauses/Vöhringen
DESCRIPTION:
URL:https://stadtkapelle-voehringen.de/event/aufgspielt-wird-feierabend-hockete-am-hettstedtplatz-voehringen-2/
CATEGORIES:Stadtkapelle
ATTACH;FMTTYPE=image/jpeg:https://stadtkapelle-voehringen.de/wp/wp-content/uploads/2025/04/Plakat_abgesagt.jpeg
END:VEVENT
END:VCALENDAR